Workbook

Sheet Structure
A1: N° PACAGE
A2: Nom Prénom / Raison sociale
A3: Adresse
A4: Code postal | D4: Commune
A5: Portable / fixe
A6: Mail
A8: Demandeur individuel | E8: Pluriactif:
A9: Date de naissance | E9: UTH:
A10: Date d'installation | E10: Label
A12: Pour le demandeur sociétaire: | B12: Type:
A13: Date de création:
A14: Pour tous les associés exploitants:
A15: Nom | B15: Prénom | D15: Bonus JA ( date d'installation) | F15: Date de naissance
A19: Engagements
A20: Autres engagements MAEC | D20: Type mesures
A21: Autres engagements (CAB, PSE,) | D21: Surface / Date fin
A22: Bénéficiare du bonus Haie

Sheet SAU cheptel
A1: Code culture Telepac (2024) | B1: Cultures | C1: Surfaces | F1: Atelier | G1: Effectif moyen annuel | H1: coeff UGB
A2: 1.6 | B2: Prairies permanentes
A3: 1.5 | B3: Prairies temporaires | F3: Vaches Lait. (>24 mois) | H3: 1
A4: 1.1 | B4: Maïs fourrager | F4: Vaches allait. (>24 mois) | H4: 1
A5: 1.2 | B5: Oléagineux | F5: Génisses (6-24 mois) | H5: 0.6
A6: 1.3 et 1.4 | B6: Legumineuses et autres fourrragères | F6: Veaux (< 6 mois) | H6: 0.4
A7: 1.1 | B7: Céréales | F7: Bovins Mâles (6-24 mois) | H7: 0.6
B8: Jachère | F8: Bovins mâles (> 24 mois) | H8: 1
B9: SNE | F9: Ovins (>12 mois) | H9: 0.15
B10: Autre | F10: Equins (>6 mois) | H10: 1
B11: Total surface | C11: =SUM(C2:C10) -> 0 | F11: Caprins (>12 mois ou mise bas) | H11: 0.15
F12: Effectf total | G12: =SUM(G2:G11) -> 0
B13: Type couverture | C13: Surf (ha) | D13: A eng
B14: Surfaces eligibles TA+PP | C14: =C11 -> 0 | D14: =C14*0.9 -> 0
B15: STH | C15: =C2+C3 -> 0 | H15: UGB Max | I15: A décapitaliser (UGB)
B16: Prairies Permanentes | C16: =C2 -> 0 | F16: UGB | G16: =G3*H3+G4*H4+G5*H5+G6*H6+G7*H7+G8*H8+G9*H9+G10*H10+G11*H11 -> 0 | H16: =C18*1.4 -> 0 | I16: =H16-G16 -> 0
B17: Maïs ensilage | C17: =C4 -> 0 | F17: Chargement (UGB/ha SFP): | G17: =G16/C18 -> #DIV/0! | H17: 1.4
B18: SFP | C18: =C2+C3+C4 -> 0

Sheet enjeux territoire
B2: A évaluer au SIG avec la SAU
C3: Nombre | D3: Surface totale ilots (ha)
B4: Parcelles à proximité d'un cours d'eau (50 m ou -)
B5: Parcelles dans un périmètre de captage sensible
B6: Parcelles dans un site Natura 2000
B9: Indicateurs en lien avec les autres actions du CPT
B11: Qualifiez votre bien être au travail
B12: Estimez votre degré d'interêt pour votre travail
B14: Etes vous satisfait de votre activité au quotidien?
B16: Enoncez quelques freins récurents dans votre activité
B17: Qualifiez la qualité de l'accompagnement sur le territoire
B20: Atouts/contraintes exploitation
B21: Atouts
B22: Contraintes
B23: Objectif/évolution

Sheet Alimentation
B2: Autonomie fourragère | F2: Dépendance aux achats de concentrés
C3: Quantité (t MS) | D3: Quantité achetée (t MS) | G3: Quantité produite (t MS) | H3: Quantité achetée (t MS)
B5: Ensilage Maîs | F5: Céréales
B6: Ensilage herbe | F6: Luzerne (ou autre légumineuses)
B7: Foin | F7: Tourteau / granulés
B8: Enrubané | F8: Autres
B9: Regain | F9: Total (tonnes) | G9: =SUM(G4:G8) -> 0 | H9: =SUM(H4:H8) -> 0
B10: Autre | F10: Total (Kg) | H10: =H9*1000 -> 0
B11: Total | C11: =SUM(C4:C10) -> 0 | D11: =SUM(D4:D10) -> 0
B13: Année moyenne*
B14: Moyenne des 5 ans*
B15: * Préciser la méthode utilisée
C16: UGB | D16: Jours hivernés

Sheet Ferti phyto
B3: Fertilisation azoté de l’ensemble des parcelles engagées (terres arables et prairies permanentes)
B4: Culture | C4: Fertilisation minérale | D4: Fertilisation organique | E4: Remarques
B5: Prairies permanentes
B6: Praries temporaire
B7: Céréales
B8: Total | C8: =SUM(C5:C7) -> 0 | D8: =SUM(D5:D7) -> 0
B10: Traitements phytosanitaires sur prairies
C11: Quantité | D11: Surface | E11: Remarques
B12: Prairies permanentes
B13: Prairies temporaires
B14: Cultures (bilan "Mes parcelles"
B15: Total | C15: =SUM(C12:C13) -> 0 | D15: =SUM(D12:D13) -> 0

Sheet Critères eligibilité
A2: Obligations du cahier des charges | B2: Valeurs des indicateurs | C2: Valeurs initiales de l’exploitation | D2: Préconisations/ Remarques/ détail
A3: Taux de chargement moyen annuel maximal (UGB/ha surface fourragère) | B3: W = 1.4 | C3: ='SAU cheptel'!G17 -> #DIV/0! | D3: Critères donnés à titre indicatif dans le cadre du diagnostic. Non concerné car engagements en MAEC localisée
A4: Part minimale de surface en herbe dans la SAU (%) | B4: X = 65% A partir du 15/05/27 | C4: ='SAU cheptel'!C15/'SAU cheptel'!C11 -> #DIV/0!
A5: Part maximale de surface en maïs ensilage dans la SFP (%) | B5: Y = 15%. A partir du 15/05/27 | C5: ='SAU cheptel'!C4/'SAU cheptel'!C18 -> #DIV/0!
A6: Part minimale de la SAU en prairies permanentes (%) | B6: Z = 50% | C6: ='SAU cheptel'!C2/'SAU cheptel'!C11 -> #DIV/0!
A7: Consommation de concentrés achetés (kg/UGB) | B7: 800 kg/UGB bovine ou équine1000 kg/UGB ovine1600 kg/UGB caprine A partir du 15/05/26 | C7: =Alimentation!H10/'SAU cheptel'!G16 -> #DIV/0!
A8: Part de PP sans produits phytosanitaires (%) | B8: 0.9 | C8: =1-('Ferti phyto'!D12/'SAU cheptel'!C2) -> #DIV/0!
A9: Part de PT sans produits phytosanitaires (%) | B9: 0.9 | C9: =1-('Ferti phyto'!D13/'SAU cheptel'!C3) -> #DIV/0!
A10: Dose maximale de fertilisation en N minéral sur prairies | B10: 50 kg/ha/an | C10: =AVERAGE('Ferti phyto'!C5,'Ferti phyto'!C6) -> #DIV/0!
A11: Part surface éligible / CAC2 % | B11: =C11/'SAU cheptel'!C14 -> #DIV/0!

Sheet Engagements prévisionnels
A2: N° îlot | B2: N° parcelles | C2: Code culture PAC | D2: Surface (Ha) | E2: Fauche (type; date) (si MHU2) | F2: Ferti N/P/K (Type;UN/ha) Apports magnésien et chaux (si MHU2) | G2: Entrée/sortie animaux (si MHU2) | H2: Traitement phytosanitaires | I2: Chargement moyen annuel (UGB/ha/an) si MHU2 | J2: Travail superficiel du sol | K2: Proposition engagement | L2: Code saisie TELEPAC | M2: Remarques
F3: Cible: interdiction | G3: Cible: interdiction pâturage hivernal du 01/12 au 15/03 | H3: Cible interdiction | I3: Cible < 1,2 UGB/ha | J3: Cible: interdiction
J4: =VLOOKUP(L4,'SAISIE Auto'!$A$2:$G$5,7,FALSE) -> #N/A
J5: =VLOOKUP(L5,'SAISIE Auto'!$A$2:$G$5,7,FALSE) -> #N/A
J6: =VLOOKUP(L6,'SAISIE Auto'!$A$2:$G$5,7,FALSE) -> #N/A
J7: =VLOOKUP(L7,'SAISIE Auto'!$A$2:$G$5,7,FALSE) -> #N/A
J8: =VLOOKUP(L8,'SAISIE Auto'!$A$2:$G$5,7,FALSE) -> #N/A
J9: =VLOOKUP(L9,'SAISIE Auto'!$A$2:$G$5,7,FALSE) -> #N/A
J10: =VLOOKUP(L10,'SAISIE Auto'!$A$2:$G$5,7,FALSE) -> #N/A
J11: =VLOOKUP(L11,'SAISIE Auto'!$A$2:$G$5,7,FALSE) -> #N/A
J12: =VLOOKUP(L12,'SAISIE Auto'!$A$2:$G$5,7,FALSE) -> #N/A
J13: =VLOOKUP(L13,'SAISIE Auto'!$A$2:$G$5,7,FALSE) -> #N/A
J14: =VLOOKUP(L14,'SAISIE Auto'!$A$2:$G$5,7,FALSE) -> #N/A
J15: =VLOOKUP(L15,'SAISIE Auto'!$A$2:$G$5,7,FALSE) -> #N/A
... J36: =VLOOKUP(L36,'SAISIE Auto'!$A$2:$G$5,7,FALSE) -> #N/A
C37: TOTAL | D37: =SUM(D4:D25) -> 0

Sheet Chargements
B2: Ilot | C2: Surface | D2: Entrée | E2: Sortie | F2: jours paturés | G2: UGB | H2: Chargement moyen annuel
F3: =E3-D3 -> 0 | H3: =((G3*F3)/C3)/365 -> #DIV/0!
F4: =E4-D4 -> 0 | H4: =((G4*F4)/C4)/365 -> #DIV/0!
F5: =E5-D5 -> 0 | H5: =((G5*F5)/C5)/365 -> #DIV/0!
F6: =E6-D6 -> 0 | H6: =((G6*F6)/C6)/365 -> #DIV/0!
F7: =E7-D7 -> 0 | H7: =((G7*F7)/C7)/365 -> #DIV/0!
F8: =E8-D8 -> 0 | H8: =((G8*F8)/C8)/365 -> #DIV/0!
F9: =E9-D9 -> 0 | H9: =((G9*F9)/C9)/365 -> #DIV/0!
F10: =E10-D10 -> 0 | H10: =((G10*F10)/C10)/365 -> #DIV/0!
F11: =E11-D11 -> 0 | H11: =((G11*F11)/C11)/365 -> #DIV/0!
F12: =E12-D12 -> 0 | H12: =((G12*F12)/C12)/365 -> #DIV/0!
F13: =E13-D13 -> 0 | H13: =((G13*F13)/C13)/365 -> #DIV/0!
F14: =E14-D14 -> 0 | H14: =((G14*F14)/C14)/365 -> #DIV/0!
F15: =E15-D15 -> 0 | H15: =((G15*F15)/C15)/365 -> #DIV/0!

Sheet Bilan des engagements
A2: Zonage retenu | B2: Code saisie TELEPAC | C2: Libelle mesure | F2: Surface(Ha) | G2: Montant / ha | H2: Montant MAEC/an
A3: =VLOOKUP(B3,'SAISIE Auto'!$A$2:$G$5,4,FALSE) -> #N/A | C3: =VLOOKUP(B3,'SAISIE Auto'!$A$2:$G$5,4,FALSE) -> #N/A | G3: =VLOOKUP(B3,'SAISIE Auto'!$A$2:$G$5,6,FALSE) -> #N/A | H3: =G3*F3 -> #N/A
C4: =VLOOKUP(B4,'SAISIE Auto'!$A$2:$G$5,4,FALSE) -> #N/A | G4: =VLOOKUP(B4,'SAISIE Auto'!$A$2:$G$5,6,FALSE) -> #N/A | H4: =G4*F4 -> #N/A
C5: =VLOOKUP(B5,'SAISIE Auto'!$A$2:$G$5,4,FALSE) -> #N/A | G5: =VLOOKUP(B5,'SAISIE Auto'!$A$2:$G$5,6,FALSE) -> #N/A | H5: =G5*F5 -> #N/A
C6: =VLOOKUP(B6,'SAISIE Auto'!$A$2:$G$5,4,FALSE) -> #N/A | G6: =VLOOKUP(B6,'SAISIE Auto'!$A$2:$G$5,6,FALSE) -> #N/A | H6: =G6*F6 -> #N/A
E7: TOTAL | F7: =SUM(F3:F5) -> 0 | H7: =IF(SUM(H3:I5)>10000,10000,(SUM(H3:I5))) -> #N/A
E8: TOTAL SUR 5 ANS | H8: =H7*5 -> #N/A
A9: Possibilité de souscription
A10: cf critères d'éligibilitée + p7
A11: Prescriptions pour la mise en œuvre de la MAEC
A13: Résultats attendus et impacts de la MAEC
A14: ☒ Maintien de pratiques favorables là où il existe un risque de disparition ou d'évolution vers des pratiques moins vertueuses ☒ Maintien de zones humides fonctionnelles □ Maintien ou mise en œuvre de pratiques favorables aux infrastuctures agroécologique
A16: Le : | C16: à:
A17: Signature du ou des demandeur(s) | E17: Signature de l'animateur: | G17: Eric Albrecht | H17: (SMDMCA)
E18: Document provisoire en vue de la déclaration Télépac

Sheet SAISIE Auto
A1: Code mesure | B1: Périmètre d'intervention | C1: Code-Périmètre | D1: Nom Mesure | E1: Type mesure | F1: Montant unitaire / ha
A2: OC_BMC1_MHU2 | B2: Résilience des milieux au changement climatique | C2: OC-BMC1 | D2: MAEC Biodiversité - Préservation des milieux humides - amélioration de la gestion par le pâturage | E2: Localisée | F2: 201 | G2: Préservation des milieux humides - amélioration de la gestion par le pâturage
A3: OC_BMC1_IAE1 | B3: Résilience des milieux au changement climatique | C3: OC-BMC1 | D3: MAEC ligneux | E3: Localisée | F3: 800 | G3: MAEC ligneux
A4: OC_BMC2_HBV3 | B4: Qualité des eaux superficielles et souterraines | C4: OC-BMC2 | D4: MAEC Elevage d'herbivores 3 | E4: Système | F4: 233 | G4: MAEC Elevage d'herbivores 3
A5: OC_BMC1_CPRA | B5: Qualité des eaux superficielles et souterraines | C5: OC-BMC1 | D5: MAEC Biodiversité - Création de prairies | E5: Localisée | F5: 358 | G5: Création de prairies
